BEGIN:VCALENDAR
VERSION:2.0
PRODID:-// - ECPv6.15.20//NONSGML v1.0//EN
CALSCALE:GREGORIAN
METHOD:PUBLISH
X-ORIGINAL-URL:https://montreaux55.com
X-WR-CALDESC:Events for 
REFRESH-INTERVAL;VALUE=DURATION:PT1H
X-Robots-Tag:noindex
X-PUBLISHED-TTL:PT1H
BEGIN:VTIMEZONE
TZID:America/Los_Angeles
BEGIN:DAYLIGHT
TZOFFSETFROM:-0800
TZOFFSETTO:-0700
TZNAME:PDT
DTSTART:20240310T100000
END:DAYLIGHT
BEGIN:STANDARD
TZOFFSETFROM:-0700
TZOFFSETTO:-0800
TZNAME:PST
DTSTART:20241103T090000
END:STANDARD
BEGIN:DAYLIGHT
TZOFFSETFROM:-0800
TZOFFSETTO:-0700
TZNAME:PDT
DTSTART:20250309T100000
END:DAYLIGHT
BEGIN:STANDARD
TZOFFSETFROM:-0700
TZOFFSETTO:-0800
TZNAME:PST
DTSTART:20251102T090000
END:STANDARD
BEGIN:DAYLIGHT
TZOFFSETFROM:-0800
TZOFFSETTO:-0700
TZNAME:PDT
DTSTART:20260308T100000
END:DAYLIGHT
BEGIN:STANDARD
TZOFFSETFROM:-0700
TZOFFSETTO:-0800
TZNAME:PST
DTSTART:20261101T090000
END:STANDARD
END:VTIMEZONE
BEGIN:VEVENT
DTSTART;VALUE=DATE:20251201
DTEND;VALUE=DATE:20251216
DTSTAMP:20260423T120721
CREATED:20250117T185710Z
LAST-MODIFIED:20250117T185710Z
UID:11399-1764547200-1765843199@montreaux55.com
SUMMARY:Montreaux’s Annual Food Drive\, December 1st-15th
DESCRIPTION:Montreaux’s Annual Food Drive\, December 1st -15th \nThis is our 3rd Annual Food Donation Collection for Tri-Parish Food Bank
URL:https://montreaux55.com/event/montreauxs-annual-food-drive-december-1st-15th/
END:VEVENT
BEGIN:VEVENT
DTSTART;VALUE=DATE:20251204
DTEND;VALUE=DATE:20251205
DTSTAMP:20260423T120721
CREATED:20250117T185743Z
LAST-MODIFIED:20251115T041214Z
UID:11401-1764806400-1764892799@montreaux55.com
SUMMARY:Holiday Celebration Meal\, December 4th
DESCRIPTION:Holiday Celebration Luncheon\, December 4th \n 
URL:https://montreaux55.com/event/holiday-celebration-meal-december-3rd/
END:VEVENT
END:VCALENDAR