BEGIN:VCALENDAR
VERSION:2.0
PRODID:-// - ECPv6.15.20//NONSGML v1.0//EN
CALSCALE:GREGORIAN
METHOD:PUBLISH
X-ORIGINAL-URL:https://montreaux55.com
X-WR-CALDESC:Events for 
REFRESH-INTERVAL;VALUE=DURATION:PT1H
X-Robots-Tag:noindex
X-PUBLISHED-TTL:PT1H
BEGIN:VTIMEZONE
TZID:America/Los_Angeles
BEGIN:DAYLIGHT
TZOFFSETFROM:-0800
TZOFFSETTO:-0700
TZNAME:PDT
DTSTART:20240310T100000
END:DAYLIGHT
BEGIN:STANDARD
TZOFFSETFROM:-0700
TZOFFSETTO:-0800
TZNAME:PST
DTSTART:20241103T090000
END:STANDARD
BEGIN:DAYLIGHT
TZOFFSETFROM:-0800
TZOFFSETTO:-0700
TZNAME:PDT
DTSTART:20250309T100000
END:DAYLIGHT
BEGIN:STANDARD
TZOFFSETFROM:-0700
TZOFFSETTO:-0800
TZNAME:PST
DTSTART:20251102T090000
END:STANDARD
BEGIN:DAYLIGHT
TZOFFSETFROM:-0800
TZOFFSETTO:-0700
TZNAME:PDT
DTSTART:20260308T100000
END:DAYLIGHT
BEGIN:STANDARD
TZOFFSETFROM:-0700
TZOFFSETTO:-0800
TZNAME:PST
DTSTART:20261101T090000
END:STANDARD
END:VTIMEZONE
BEGIN:VEVENT
DTSTART;VALUE=DATE:20250711
DTEND;VALUE=DATE:20250712
DTSTAMP:20260423T175554
CREATED:20250117T185132Z
LAST-MODIFIED:20250117T185149Z
UID:11385-1752192000-1752278399@montreaux55.com
SUMMARY:Friday Night in the Park – Wine Tasting\, July 11th
DESCRIPTION:Friday Night in the Park – Wine Tasting\, July 11th Bring your favorite wine\, or beverage of your choice\, for another social evening in our main Park
URL:https://montreaux55.com/event/friday-night-in-the-park-wine-tasting-july-11th/
END:VEVENT
BEGIN:VEVENT
DTSTART;TZID=America/Los_Angeles:20250716T130000
DTEND;TZID=America/Los_Angeles:20250716T153000
DTSTAMP:20260423T175554
CREATED:20250430T171552Z
LAST-MODIFIED:20250430T172313Z
UID:11621-1752670800-1752679800@montreaux55.com
SUMMARY:Montreaux July Board Meeting
DESCRIPTION:July 16 board meeting. It will be held at the \nFirst Lutheran Church\, 2015 E Blackburn Rd. The doors will be open at 12:45 and the \nmeeting will begin at 1:00 PM.
URL:https://montreaux55.com/event/montreaux-july-board-meeting/
END:VEVENT
BEGIN:VEVENT
DTSTART;VALUE=DATE:20250726
DTEND;VALUE=DATE:20250727
DTSTAMP:20260423T175554
CREATED:20250117T185230Z
LAST-MODIFIED:20250117T185230Z
UID:11387-1753488000-1753574399@montreaux55.com
SUMMARY:10th Annual Summer BBQ\, July 26th
DESCRIPTION:10 th Annual Summer BBQ\, July 26th Our BBQ is a popular summer event. There’ll be brats and hot dogs provided\, with lots of delicious sides and desserts from neighbors.
URL:https://montreaux55.com/event/10th-annual-summer-bbq-july-26th/
END:VEVENT
END:VCALENDAR