BEGIN:VCALENDAR
VERSION:2.0
PRODID:-// - ECPv6.15.20//NONSGML v1.0//EN
CALSCALE:GREGORIAN
METHOD:PUBLISH
X-ORIGINAL-URL:https://montreaux55.com
X-WR-CALDESC:Events for 
REFRESH-INTERVAL;VALUE=DURATION:PT1H
X-Robots-Tag:noindex
X-PUBLISHED-TTL:PT1H
BEGIN:VTIMEZONE
TZID:America/Los_Angeles
BEGIN:DAYLIGHT
TZOFFSETFROM:-0800
TZOFFSETTO:-0700
TZNAME:PDT
DTSTART:20240310T100000
END:DAYLIGHT
BEGIN:STANDARD
TZOFFSETFROM:-0700
TZOFFSETTO:-0800
TZNAME:PST
DTSTART:20241103T090000
END:STANDARD
BEGIN:DAYLIGHT
TZOFFSETFROM:-0800
TZOFFSETTO:-0700
TZNAME:PDT
DTSTART:20250309T100000
END:DAYLIGHT
BEGIN:STANDARD
TZOFFSETFROM:-0700
TZOFFSETTO:-0800
TZNAME:PST
DTSTART:20251102T090000
END:STANDARD
BEGIN:DAYLIGHT
TZOFFSETFROM:-0800
TZOFFSETTO:-0700
TZNAME:PDT
DTSTART:20260308T100000
END:DAYLIGHT
BEGIN:STANDARD
TZOFFSETFROM:-0700
TZOFFSETTO:-0800
TZNAME:PST
DTSTART:20261101T090000
END:STANDARD
END:VTIMEZONE
BEGIN:VEVENT
DTSTART;TZID=America/Los_Angeles:20250514T130000
DTEND;TZID=America/Los_Angeles:20250514T150000
DTSTAMP:20260423T202210
CREATED:20250509T001840Z
LAST-MODIFIED:20250509T001840Z
UID:11640-1747227600-1747234800@montreaux55.com
SUMMARY:Montreaux Workshop
DESCRIPTION:The Fence Committee has requested a workshop with the Board and the Budget Committee members to share projected Fence Costs for Replacement\, Staining and Repainting.\n\nDate:  Wednesday May 14th\nTime: 1 – 3 PM\nLocation:  Skagit Publishing Conference Room – 1215 Anderson Rd. Mount Vernon\n\nAgenda:\n\n\nAnticipated  Repair Costs (2025 through 2032)\nNew Fence Replacement costs (2025 through 2032)\nStaining Costs (2025 through 2032)\nPainting Costs (2025 through 2027)\nCombined Spreadsheet with all fence expenses
URL:https://montreaux55.com/event/montreaux-workshop/
END:VEVENT
BEGIN:VEVENT
DTSTART;TZID=America/Los_Angeles:20250521T130000
DTEND;TZID=America/Los_Angeles:20250521T150000
DTSTAMP:20260423T202210
CREATED:20241127T201837Z
LAST-MODIFIED:20241127T201856Z
UID:11277-1747832400-1747839600@montreaux55.com
SUMMARY:Montreaux Board Meeting
DESCRIPTION:5/21/25 board meeting will be at the Mount Vernon PD beginning at 1:00.
URL:https://montreaux55.com/event/montreaux-board-meeting-3/
END:VEVENT
BEGIN:VEVENT
DTSTART;VALUE=DATE:20250522
DTEND;VALUE=DATE:20250523
DTSTAMP:20260423T202210
CREATED:20250117T184930Z
LAST-MODIFIED:20250117T184930Z
UID:11379-1747872000-1747958399@montreaux55.com
SUMMARY:Lunch at Tepic Mexican Restaurant\, May 22nd
DESCRIPTION:Lunch at Tepic Mexican Restaurant\, May 22nd Join us for a meal and social time \nEvent time has not been determined
URL:https://montreaux55.com/event/lunch-at-tepic-mexican-restaurant-may-22nd/
END:VEVENT
END:VCALENDAR