BEGIN:VCALENDAR
VERSION:2.0
PRODID:-// - ECPv6.15.20//NONSGML v1.0//EN
CALSCALE:GREGORIAN
METHOD:PUBLISH
X-ORIGINAL-URL:https://montreaux55.com
X-WR-CALDESC:Events for 
REFRESH-INTERVAL;VALUE=DURATION:PT1H
X-Robots-Tag:noindex
X-PUBLISHED-TTL:PT1H
BEGIN:VTIMEZONE
TZID:America/Los_Angeles
BEGIN:DAYLIGHT
TZOFFSETFROM:-0800
TZOFFSETTO:-0700
TZNAME:PDT
DTSTART:20240310T100000
END:DAYLIGHT
BEGIN:STANDARD
TZOFFSETFROM:-0700
TZOFFSETTO:-0800
TZNAME:PST
DTSTART:20241103T090000
END:STANDARD
BEGIN:DAYLIGHT
TZOFFSETFROM:-0800
TZOFFSETTO:-0700
TZNAME:PDT
DTSTART:20250309T100000
END:DAYLIGHT
BEGIN:STANDARD
TZOFFSETFROM:-0700
TZOFFSETTO:-0800
TZNAME:PST
DTSTART:20251102T090000
END:STANDARD
BEGIN:DAYLIGHT
TZOFFSETFROM:-0800
TZOFFSETTO:-0700
TZNAME:PDT
DTSTART:20260308T100000
END:DAYLIGHT
BEGIN:STANDARD
TZOFFSETFROM:-0700
TZOFFSETTO:-0800
TZNAME:PST
DTSTART:20261101T090000
END:STANDARD
END:VTIMEZONE
BEGIN:VEVENT
DTSTART;TZID=America/Los_Angeles:20250404T130000
DTEND;TZID=America/Los_Angeles:20250404T150000
DTSTAMP:20260423T213520
CREATED:20250228T220031Z
LAST-MODIFIED:20250228T220031Z
UID:11483-1743771600-1743778800@montreaux55.com
SUMMARY:Fence Committee Meeting April 4th. 1pm at Police Station
DESCRIPTION:Fence Committee Meeting 4-4-25
URL:https://montreaux55.com/event/fence-committee-meeting-april-4th-1pm-at-police-station/
END:VEVENT
BEGIN:VEVENT
DTSTART;VALUE=DATE:20250425
DTEND;VALUE=DATE:20250426
DTSTAMP:20260423T213520
CREATED:20250117T184835Z
LAST-MODIFIED:20250408T180719Z
UID:11377-1745539200-1745625599@montreaux55.com
SUMMARY:Kiwanis Salmon BBQ\, April 25th
DESCRIPTION:Salmon BBQ 2025 CLICK HERE \nKiwanis Salmon BBQ\, April 25th Join our Montreaux group for this dinner fundraiser sponsored by Mount Vernon Kiwanis
URL:https://montreaux55.com/event/kiwanis-salmon-bbq-april-25th/
END:VEVENT
END:VCALENDAR