BEGIN:VCALENDAR
VERSION:2.0
PRODID:-// - ECPv6.15.20//NONSGML v1.0//EN
CALSCALE:GREGORIAN
METHOD:PUBLISH
X-ORIGINAL-URL:https://montreaux55.com
X-WR-CALDESC:Events for 
REFRESH-INTERVAL;VALUE=DURATION:PT1H
X-Robots-Tag:noindex
X-PUBLISHED-TTL:PT1H
BEGIN:VTIMEZONE
TZID:America/Los_Angeles
BEGIN:DAYLIGHT
TZOFFSETFROM:-0800
TZOFFSETTO:-0700
TZNAME:PDT
DTSTART:20240310T100000
END:DAYLIGHT
BEGIN:STANDARD
TZOFFSETFROM:-0700
TZOFFSETTO:-0800
TZNAME:PST
DTSTART:20241103T090000
END:STANDARD
BEGIN:DAYLIGHT
TZOFFSETFROM:-0800
TZOFFSETTO:-0700
TZNAME:PDT
DTSTART:20250309T100000
END:DAYLIGHT
BEGIN:STANDARD
TZOFFSETFROM:-0700
TZOFFSETTO:-0800
TZNAME:PST
DTSTART:20251102T090000
END:STANDARD
BEGIN:DAYLIGHT
TZOFFSETFROM:-0800
TZOFFSETTO:-0700
TZNAME:PDT
DTSTART:20260308T100000
END:DAYLIGHT
BEGIN:STANDARD
TZOFFSETFROM:-0700
TZOFFSETTO:-0800
TZNAME:PST
DTSTART:20261101T090000
END:STANDARD
END:VTIMEZONE
BEGIN:VEVENT
DTSTART;TZID=America/Los_Angeles:20250319T130000
DTEND;TZID=America/Los_Angeles:20250319T150000
DTSTAMP:20260423T225133
CREATED:20241127T201740Z
LAST-MODIFIED:20241127T201740Z
UID:11275-1742389200-1742396400@montreaux55.com
SUMMARY:Montreaux Board Meeting
DESCRIPTION:3/19/25 board meeting will be at the Mount Vernon PD beginning at 1:00
URL:https://montreaux55.com/event/montreaux-board-meeting-2/
END:VEVENT
BEGIN:VEVENT
DTSTART;VALUE=DATE:20250326
DTEND;VALUE=DATE:20250327
DTSTAMP:20260423T225133
CREATED:20250117T184753Z
LAST-MODIFIED:20250228T185955Z
UID:11375-1742947200-1743033599@montreaux55.com
SUMMARY:Lunch at Jimmy’s Pizza and Pasta\, March 26th\, 1pm
DESCRIPTION:Lunch at Jimmy’s Pizza and Pasta\, March 26th Let’s get together for lunch. 1pm. \nEvent time has not been determined
URL:https://montreaux55.com/event/lunch-at-jimmys-pizza-and-pasta-march-6th/
END:VEVENT
END:VCALENDAR