BEGIN:VCALENDAR
VERSION:2.0
PRODID:-// - ECPv6.15.20//NONSGML v1.0//EN
CALSCALE:GREGORIAN
METHOD:PUBLISH
X-ORIGINAL-URL:https://montreaux55.com
X-WR-CALDESC:Events for 
REFRESH-INTERVAL;VALUE=DURATION:PT1H
X-Robots-Tag:noindex
X-PUBLISHED-TTL:PT1H
BEGIN:VTIMEZONE
TZID:America/Los_Angeles
BEGIN:DAYLIGHT
TZOFFSETFROM:-0800
TZOFFSETTO:-0700
TZNAME:PDT
DTSTART:20230312T100000
END:DAYLIGHT
BEGIN:STANDARD
TZOFFSETFROM:-0700
TZOFFSETTO:-0800
TZNAME:PST
DTSTART:20231105T090000
END:STANDARD
BEGIN:DAYLIGHT
TZOFFSETFROM:-0800
TZOFFSETTO:-0700
TZNAME:PDT
DTSTART:20240310T100000
END:DAYLIGHT
BEGIN:STANDARD
TZOFFSETFROM:-0700
TZOFFSETTO:-0800
TZNAME:PST
DTSTART:20241103T090000
END:STANDARD
BEGIN:DAYLIGHT
TZOFFSETFROM:-0800
TZOFFSETTO:-0700
TZNAME:PDT
DTSTART:20250309T100000
END:DAYLIGHT
BEGIN:STANDARD
TZOFFSETFROM:-0700
TZOFFSETTO:-0800
TZNAME:PST
DTSTART:20251102T090000
END:STANDARD
END:VTIMEZONE
BEGIN:VEVENT
DTSTART;TZID=America/Los_Angeles:20240607T160000
DTEND;TZID=America/Los_Angeles:20240607T160000
DTSTAMP:20260424T090432
CREATED:20231026T174503Z
LAST-MODIFIED:20240507T031727Z
UID:9591-1717776000-1717776000@montreaux55.com
SUMMARY:Friday Nights in the Park
DESCRIPTION:Friday June 7th at 4:00pm FRIDAY NIGHTS in the PARK – appetizer event. Host – Mel Dygert \nClick here to see flyer
URL:https://montreaux55.com/event/friday-nights-in-the-park-4/
END:VEVENT
BEGIN:VEVENT
DTSTART;TZID=America/Los_Angeles:20240617T090000
DTEND;TZID=America/Los_Angeles:20240617T210000
DTSTAMP:20260424T090432
CREATED:20240518T024641Z
LAST-MODIFIED:20240518T024641Z
UID:10423-1718614800-1718658000@montreaux55.com
SUMMARY:Gazebo privately Reserved for homeowner
DESCRIPTION:One of our homeowners has reserved the Gazebo area for a family picnic on Monday June 17th in the afternoon. This event is NOT open to the homeowners.
URL:https://montreaux55.com/event/gazebo-privately-reserved-for-homeowner/
END:VEVENT
BEGIN:VEVENT
DTSTART;TZID=America/Los_Angeles:20240619T130000
DTEND;TZID=America/Los_Angeles:20240619T150000
DTSTAMP:20260424T090432
CREATED:20240516T224341Z
LAST-MODIFIED:20240516T224341Z
UID:10411-1718802000-1718809200@montreaux55.com
SUMMARY:Special meeting focused on Montreaux's fences
DESCRIPTION:At their May 15 meeting\, members of the board decided to add a special meeting focused on Montreaux’s fences. The meeting is scheduled for Wednesday\, June 19 at 1:00 p.m. We were unable to book the public room at the Police Department\, so it will be held at the First Evangelical Lutheran Church at 2015 Blackburn Road in Mount Vernon. All homeowners are invited to attend. We will probably need some assistance in setting up chairs and folding them up afterwards.
URL:https://montreaux55.com/event/special-meeting-focused-on-montreauxs-fences/
END:VEVENT
BEGIN:VEVENT
DTSTART;TZID=America/Los_Angeles:20240621T103000
DTEND;TZID=America/Los_Angeles:20240621T133000
DTSTAMP:20260424T090432
CREATED:20240614T190854Z
LAST-MODIFIED:20240614T190854Z
UID:10508-1718965800-1718976600@montreaux55.com
SUMMARY:Gazebo Reserved for G&M meeting 10:30am
DESCRIPTION:The Grounds & Maintenance committee has reserved the Gazebo for a landscaping group informal meeting
URL:https://montreaux55.com/event/gazebo-reserved-for-gm-meeting-1030am/
END:VEVENT
BEGIN:VEVENT
DTSTART;TZID=America/Los_Angeles:20240622T130000
DTEND;TZID=America/Los_Angeles:20240622T130000
DTSTAMP:20260424T090432
CREATED:20231026T174634Z
LAST-MODIFIED:20240428T050447Z
UID:9593-1719061200-1719061200@montreaux55.com
SUMMARY:Garden Tour
DESCRIPTION:Click HERE
URL:https://montreaux55.com/event/garden-tour-2/
END:VEVENT
BEGIN:VEVENT
DTSTART;TZID=America/Los_Angeles:20240626T113000
DTEND;TZID=America/Los_Angeles:20240626T123000
DTSTAMP:20260424T090432
CREATED:20240620T010749Z
LAST-MODIFIED:20240620T010749Z
UID:10538-1719401400-1719405000@montreaux55.com
SUMMARY:Gazebo Reserved for Board - Not an open meeting
DESCRIPTION:The Gazebo is reserved for the Board to discuss what topics to put on the July Board Meeting Agenda. This is not an open meeting to the community.
URL:https://montreaux55.com/event/gazebo-reserved-for-board-not-an-open-meeting/
END:VEVENT
END:VCALENDAR