BEGIN:VCALENDAR
VERSION:2.0
PRODID:-// - ECPv6.15.20//NONSGML v1.0//EN
CALSCALE:GREGORIAN
METHOD:PUBLISH
X-ORIGINAL-URL:https://montreaux55.com
X-WR-CALDESC:Events for 
REFRESH-INTERVAL;VALUE=DURATION:PT1H
X-Robots-Tag:noindex
X-PUBLISHED-TTL:PT1H
BEGIN:VTIMEZONE
TZID:America/Los_Angeles
BEGIN:DAYLIGHT
TZOFFSETFROM:-0800
TZOFFSETTO:-0700
TZNAME:PDT
DTSTART:20220313T100000
END:DAYLIGHT
BEGIN:STANDARD
TZOFFSETFROM:-0700
TZOFFSETTO:-0800
TZNAME:PST
DTSTART:20221106T090000
END:STANDARD
BEGIN:DAYLIGHT
TZOFFSETFROM:-0800
TZOFFSETTO:-0700
TZNAME:PDT
DTSTART:20230312T100000
END:DAYLIGHT
BEGIN:STANDARD
TZOFFSETFROM:-0700
TZOFFSETTO:-0800
TZNAME:PST
DTSTART:20231105T090000
END:STANDARD
BEGIN:DAYLIGHT
TZOFFSETFROM:-0800
TZOFFSETTO:-0700
TZNAME:PDT
DTSTART:20240310T100000
END:DAYLIGHT
BEGIN:STANDARD
TZOFFSETFROM:-0700
TZOFFSETTO:-0800
TZNAME:PST
DTSTART:20241103T090000
END:STANDARD
BEGIN:DAYLIGHT
TZOFFSETFROM:-0800
TZOFFSETTO:-0700
TZNAME:PDT
DTSTART:20250309T100000
END:DAYLIGHT
BEGIN:STANDARD
TZOFFSETFROM:-0700
TZOFFSETTO:-0800
TZNAME:PST
DTSTART:20251102T090000
END:STANDARD
END:VTIMEZONE
BEGIN:VEVENT
DTSTART;VALUE=DATE:20241216
DTEND;VALUE=DATE:20241217
DTSTAMP:20260423T154805
CREATED:20231026T175546Z
LAST-MODIFIED:20231026T175546Z
UID:9613-1734307200-1734393599@montreaux55.com
SUMMARY:Monday December 16th Annual Food Drive ends.
DESCRIPTION:Monday December 16th Annual Food Drive ends.
URL:https://montreaux55.com/event/monday-december-16th-annual-food-drive-ends/
END:VEVENT
BEGIN:VEVENT
DTSTART;TZID=America/Los_Angeles:20241204T130000
DTEND;TZID=America/Los_Angeles:20241204T160000
DTSTAMP:20260423T154805
CREATED:20241121T180231Z
LAST-MODIFIED:20241121T180231Z
UID:11224-1733317200-1733328000@montreaux55.com
SUMMARY:Join your Montreaux neighbors for a Holiday Lunch
DESCRIPTION:Happy Holidays \nJoin your Montreaux neighbors for a Holiday \n\nLunch at Skagit Golf and Country Club! \n16701 Country Club Dr.\, Burlington\, WA 98233 \nDecember 4\, 2024 \n1:30-4:00 \nMENU CHOICES \nAll meals served with house-baked bread & butter\, seasonal vegetables and your choice of mashed potato\, roasted potatoes\, or rice pilaf \n\n6 oz Slow Roasted Prime Rib served with au jus & creamy horseradish \n$37.20 \n\nHerb Roasted Chicken & pan sauce \n$34.80 \n\nPasta Primavera in a cream sauce with vegetables \n$31.20 \n\nNo host bar available \n  \nReservation and payment due NOVEMBER 26TH contact Judy Whitman\, \n(360) 424-6373 or whitmanjudy55@gmail.com/ \nMake checks payable to Acorn. All payments are non-refundable after November 26th \n  \nDriving directions: \nTake I-5 North to Exit 230 \nTurn Left onto Hwy 20 heading West \nDrive 3.6 miles and turn Right onto Avon-Allen Road \nDrive a short distance and turn Left at Skagit Golf and Country sign \nTake an immediate Left\, proceed straight into parking lot
URL:https://montreaux55.com/event/join-your-montreaux-neighbors-for-a-holiday-lunch/
END:VEVENT
BEGIN:VEVENT
DTSTART;VALUE=DATE:20241202
DTEND;VALUE=DATE:20241203
DTSTAMP:20260423T154805
CREATED:20231026T175400Z
LAST-MODIFIED:20241201T071037Z
UID:9609-1733097600-1733183999@montreaux55.com
SUMMARY:Annual Food Drive
DESCRIPTION:December Food Drive \nThis year’s annual Montreaux food donation collection will run from Monday December 2nd through Monday the 16th. \n  \nOur collection site will be at Chuck and Patty Lutz’s home at 1183 Chestnut Loop. \n  \nMike James will coordinate with Tri-Parish Food Bank in Burlington for pickup. In past years some of our residents have donated by check. If you do that\, please make a note that it is part of the Montreaux HOA Community food drive.
URL:https://montreaux55.com/event/annual-food-drive-2/
END:VEVENT
BEGIN:VEVENT
DTSTART;VALUE=DATE:20241125
DTEND;VALUE=DATE:20241126
DTSTAMP:20260423T154805
CREATED:20231026T175318Z
LAST-MODIFIED:20231026T175318Z
UID:9607-1732492800-1732579199@montreaux55.com
SUMMARY:Holiday Lights
DESCRIPTION:Monday November 25th Holiday Lights time: TBD host – Susan and John O’Brien
URL:https://montreaux55.com/event/holiday-lights-3/
END:VEVENT
BEGIN:VEVENT
DTSTART;TZID=America/Los_Angeles:20241120T130000
DTEND;TZID=America/Los_Angeles:20241120T160000
DTSTAMP:20260423T154805
CREATED:20231230T044543Z
LAST-MODIFIED:20231230T044543Z
UID:9869-1732107600-1732118400@montreaux55.com
SUMMARY:Annual Meeting November 20th
DESCRIPTION:November 20 (Annual Meeting) Location to be determined
URL:https://montreaux55.com/event/annual-meeting-november-20th/
END:VEVENT
BEGIN:VEVENT
DTSTART;TZID=America/Los_Angeles:20240918T130000
DTEND;TZID=America/Los_Angeles:20240918T150000
DTSTAMP:20260423T154805
CREATED:20231230T044357Z
LAST-MODIFIED:20240319T214424Z
UID:9867-1726664400-1726671600@montreaux55.com
SUMMARY:Board Meeting Sept 18th 1pm
DESCRIPTION:September 18\, 2024 At First Evangelical Lutheran Church\, 2015 E. Blackburn Road\, in Mount Vernon
URL:https://montreaux55.com/event/board-meeting-sept-18th-1pm/
END:VEVENT
BEGIN:VEVENT
DTSTART;TZID=America/Los_Angeles:20240914T160000
DTEND;TZID=America/Los_Angeles:20240914T180000
DTSTAMP:20260423T154805
CREATED:20231026T175206Z
LAST-MODIFIED:20240823T163559Z
UID:9605-1726329600-1726336800@montreaux55.com
SUMMARY:Annual Chili Cook-off
DESCRIPTION:Saturday September 14th Annual Chili Cook-off time: 4PM. host – Marsha M.\, Judy W. and Carol M. \nMONTREAUX ANNUAL CHILI COOK OFF 2024
URL:https://montreaux55.com/event/annual-chili-cook-off/
END:VEVENT
BEGIN:VEVENT
DTSTART;TZID=America/Los_Angeles:20240906T160000
DTEND;TZID=America/Los_Angeles:20240906T160000
DTSTAMP:20260423T154805
CREATED:20231026T175112Z
LAST-MODIFIED:20231026T175112Z
UID:9603-1725638400-1725638400@montreaux55.com
SUMMARY:Volunteer Appreciation
DESCRIPTION:Friday September 6th Volunteer Appreciation 4:00pm host – Mel D. and Sandy R
URL:https://montreaux55.com/event/volunteer-appreciation/
END:VEVENT
BEGIN:VEVENT
DTSTART;TZID=America/Los_Angeles:20240821T130000
DTEND;TZID=America/Los_Angeles:20240821T130000
DTSTAMP:20260423T154805
CREATED:20240319T213912Z
LAST-MODIFIED:20240319T213920Z
UID:10248-1724245200-1724245200@montreaux55.com
SUMMARY:Budget Workshop
DESCRIPTION:August 21\, 1:00pm. At the Mound Vernon Police Department
URL:https://montreaux55.com/event/budget-workshop/
END:VEVENT
BEGIN:VEVENT
DTSTART;VALUE=DATE:20240817
DTEND;VALUE=DATE:20240818
DTSTAMP:20260423T154805
CREATED:20231026T175012Z
LAST-MODIFIED:20231026T175012Z
UID:9601-1723852800-1723939199@montreaux55.com
SUMMARY:Farmers Market
DESCRIPTION:Saturday August 17th Farmers Market time: TBD host – Carol M.\, Caroll R. and Marj W
URL:https://montreaux55.com/event/farmers-market-3/
END:VEVENT
BEGIN:VEVENT
DTSTART;TZID=America/Los_Angeles:20240802T160000
DTEND;TZID=America/Los_Angeles:20240802T160000
DTSTAMP:20260423T154805
CREATED:20231026T174928Z
LAST-MODIFIED:20240708T204305Z
UID:9599-1722614400-1722614400@montreaux55.com
SUMMARY:Hawaiian Night and Ice Cream Social
DESCRIPTION:Friday August 2nd Hawaiian Night and Ice Cream Social 4:00pm host – Mel D.\, Caroll R. and Sandy R. \nIce Cream 2024
URL:https://montreaux55.com/event/hawaiian-night-and-ice-cream-social/
END:VEVENT
BEGIN:VEVENT
DTSTART;VALUE=DATE:20240720
DTEND;VALUE=DATE:20240721
DTSTAMP:20260423T154805
CREATED:20231026T174828Z
LAST-MODIFIED:20240624T173309Z
UID:9597-1721433600-1721519999@montreaux55.com
SUMMARY:Summer BBQ and Show and Shine
DESCRIPTION:Saturday July 20th Summer BBQ and Show and Shine. Time: 4:00pm hosts – Susan O’Brien \nSummer BBQ 2024
URL:https://montreaux55.com/event/summer-bbq-and-show-and-shine/
END:VEVENT
BEGIN:VEVENT
DTSTART;TZID=America/Los_Angeles:20240717T130000
DTEND;TZID=America/Los_Angeles:20240717T150000
DTSTAMP:20260423T154805
CREATED:20231230T044207Z
LAST-MODIFIED:20231230T044207Z
UID:9865-1721221200-1721228400@montreaux55.com
SUMMARY:Board Meeting July 17th 1pm
DESCRIPTION:July 17 at the Mount Vernon Police Department at 1pm
URL:https://montreaux55.com/event/board-meeting-july-17th-1pm/
END:VEVENT
BEGIN:VEVENT
DTSTART;TZID=America/Los_Angeles:20240712T160000
DTEND;TZID=America/Los_Angeles:20240712T160000
DTSTAMP:20260423T154805
CREATED:20231026T174722Z
LAST-MODIFIED:20240615T210628Z
UID:9595-1720800000-1720800000@montreaux55.com
SUMMARY:Wine Tasting
DESCRIPTION:Friday July 12th Wine Tasting 4:00pm. Host – Mel Dygert \nAt the Gazebo. Bring your favorite wine/beverage to share. Please bring your own glass. \nContact Mel Dygert at leedygert10@gmail.com
URL:https://montreaux55.com/event/wine-tasting/
END:VEVENT
BEGIN:VEVENT
DTSTART;TZID=America/Los_Angeles:20240626T113000
DTEND;TZID=America/Los_Angeles:20240626T123000
DTSTAMP:20260423T154805
CREATED:20240620T010749Z
LAST-MODIFIED:20240620T010749Z
UID:10538-1719401400-1719405000@montreaux55.com
SUMMARY:Gazebo Reserved for Board - Not an open meeting
DESCRIPTION:The Gazebo is reserved for the Board to discuss what topics to put on the July Board Meeting Agenda. This is not an open meeting to the community.
URL:https://montreaux55.com/event/gazebo-reserved-for-board-not-an-open-meeting/
END:VEVENT
BEGIN:VEVENT
DTSTART;TZID=America/Los_Angeles:20240622T130000
DTEND;TZID=America/Los_Angeles:20240622T130000
DTSTAMP:20260423T154805
CREATED:20231026T174634Z
LAST-MODIFIED:20240428T050447Z
UID:9593-1719061200-1719061200@montreaux55.com
SUMMARY:Garden Tour
DESCRIPTION:Click HERE
URL:https://montreaux55.com/event/garden-tour-2/
END:VEVENT
BEGIN:VEVENT
DTSTART;TZID=America/Los_Angeles:20240621T103000
DTEND;TZID=America/Los_Angeles:20240621T133000
DTSTAMP:20260423T154805
CREATED:20240614T190854Z
LAST-MODIFIED:20240614T190854Z
UID:10508-1718965800-1718976600@montreaux55.com
SUMMARY:Gazebo Reserved for G&M meeting 10:30am
DESCRIPTION:The Grounds & Maintenance committee has reserved the Gazebo for a landscaping group informal meeting
URL:https://montreaux55.com/event/gazebo-reserved-for-gm-meeting-1030am/
END:VEVENT
BEGIN:VEVENT
DTSTART;TZID=America/Los_Angeles:20240619T130000
DTEND;TZID=America/Los_Angeles:20240619T150000
DTSTAMP:20260423T154805
CREATED:20240516T224341Z
LAST-MODIFIED:20240516T224341Z
UID:10411-1718802000-1718809200@montreaux55.com
SUMMARY:Special meeting focused on Montreaux's fences
DESCRIPTION:At their May 15 meeting\, members of the board decided to add a special meeting focused on Montreaux’s fences. The meeting is scheduled for Wednesday\, June 19 at 1:00 p.m. We were unable to book the public room at the Police Department\, so it will be held at the First Evangelical Lutheran Church at 2015 Blackburn Road in Mount Vernon. All homeowners are invited to attend. We will probably need some assistance in setting up chairs and folding them up afterwards.
URL:https://montreaux55.com/event/special-meeting-focused-on-montreauxs-fences/
END:VEVENT
BEGIN:VEVENT
DTSTART;TZID=America/Los_Angeles:20240617T090000
DTEND;TZID=America/Los_Angeles:20240617T210000
DTSTAMP:20260423T154805
CREATED:20240518T024641Z
LAST-MODIFIED:20240518T024641Z
UID:10423-1718614800-1718658000@montreaux55.com
SUMMARY:Gazebo privately Reserved for homeowner
DESCRIPTION:One of our homeowners has reserved the Gazebo area for a family picnic on Monday June 17th in the afternoon. This event is NOT open to the homeowners.
URL:https://montreaux55.com/event/gazebo-privately-reserved-for-homeowner/
END:VEVENT
BEGIN:VEVENT
DTSTART;TZID=America/Los_Angeles:20240607T160000
DTEND;TZID=America/Los_Angeles:20240607T160000
DTSTAMP:20260423T154805
CREATED:20231026T174503Z
LAST-MODIFIED:20240507T031727Z
UID:9591-1717776000-1717776000@montreaux55.com
SUMMARY:Friday Nights in the Park
DESCRIPTION:Friday June 7th at 4:00pm FRIDAY NIGHTS in the PARK – appetizer event. Host – Mel Dygert \nClick here to see flyer
URL:https://montreaux55.com/event/friday-nights-in-the-park-4/
END:VEVENT
BEGIN:VEVENT
DTSTART;TZID=America/Los_Angeles:20240515T130000
DTEND;TZID=America/Los_Angeles:20240515T150000
DTSTAMP:20260423T154805
CREATED:20231230T044046Z
LAST-MODIFIED:20231230T044053Z
UID:9863-1715778000-1715785200@montreaux55.com
SUMMARY:Board Meeting May 15th 1pm
DESCRIPTION:May 15 at the Mount Vernon Police Department At 1pm
URL:https://montreaux55.com/event/board-meeting-may-15th-1pm/
END:VEVENT
BEGIN:VEVENT
DTSTART;TZID=America/Los_Angeles:20240508T120000
DTEND;TZID=America/Los_Angeles:20240508T120000
DTSTAMP:20260423T154805
CREATED:20231026T174352Z
LAST-MODIFIED:20231026T174352Z
UID:9589-1715169600-1715169600@montreaux55.com
SUMMARY:Luncheon at Poirier’s on the River downtown Mt. Vernon
DESCRIPTION:Wednesday May 8th – luncheon at Poirier’s on the River downtown Mt. Vernon at noon. Host – Judy Whitman
URL:https://montreaux55.com/event/luncheon-at-poiriers-on-the-river-downtown-mt-vernon/
END:VEVENT
BEGIN:VEVENT
DTSTART;TZID=America/Los_Angeles:20240419T160000
DTEND;TZID=America/Los_Angeles:20240419T170000
DTSTAMP:20260423T154805
CREATED:20231026T174154Z
LAST-MODIFIED:20231026T174154Z
UID:9587-1713542400-1713546000@montreaux55.com
SUMMARY:Kiwanis Salmon BBQ
DESCRIPTION:Friday April 19th Kiwanis Salmon BBQ at 4:00pm. Host – Mel Dygert
URL:https://montreaux55.com/event/kiwanis-salmon-bbq-2/
END:VEVENT
BEGIN:VEVENT
DTSTART;TZID=America/Los_Angeles:20240320T120000
DTEND;TZID=America/Los_Angeles:20240320T130000
DTSTAMP:20260423T154805
CREATED:20231026T174058Z
LAST-MODIFIED:20231026T174058Z
UID:9585-1710936000-1710939600@montreaux55.com
SUMMARY:My Cup of Tea in Burlington
DESCRIPTION:Wednesday March 20th Tea Social open to men and women at MY CUP OF TEA in Burlington at noon. Host – Mel Dygert
URL:https://montreaux55.com/event/my-cup-of-tea-in-burlington/
END:VEVENT
BEGIN:VEVENT
DTSTART;TZID=America/Los_Angeles:20240313T130000
DTEND;TZID=America/Los_Angeles:20240313T150000
DTSTAMP:20260423T154805
CREATED:20231230T043857Z
LAST-MODIFIED:20231230T043927Z
UID:9861-1710334800-1710342000@montreaux55.com
SUMMARY:Board Meeting March 13th 1pm
DESCRIPTION:March 13 at the Mount Vernon Police Department at 1pm
URL:https://montreaux55.com/event/board-meeting-march-13th-1pm/
END:VEVENT
BEGIN:VEVENT
DTSTART;TZID=America/Los_Angeles:20240213T090000
DTEND;TZID=America/Los_Angeles:20240213T100000
DTSTAMP:20260423T154805
CREATED:20231026T173912Z
LAST-MODIFIED:20231026T173912Z
UID:9583-1707814800-1707818400@montreaux55.com
SUMMARY:Breakfast at Haggen's
DESCRIPTION:Tuesday February 13th – Breakfast at Haggens from 9:00 to 10:00 – host – Caroll Raczkowski
URL:https://montreaux55.com/event/breakfast-at-haggens/
END:VEVENT
BEGIN:VEVENT
DTSTART;VALUE=DATE:20240117
DTEND;VALUE=DATE:20240118
DTSTAMP:20260423T154805
CREATED:20231026T173759Z
LAST-MODIFIED:20231026T173759Z
UID:9581-1705449600-1705535999@montreaux55.com
SUMMARY:Luncheon at Jimmy's
DESCRIPTION:Wednesday January 17th – luncheon at Jimmy’s in Stanwood. Time: TBD host – Marsha Murray
URL:https://montreaux55.com/event/luncheon-at-jimmys/
END:VEVENT
BEGIN:VEVENT
DTSTART;TZID=America/Los_Angeles:20240110T130000
DTEND;TZID=America/Los_Angeles:20240110T150000
DTSTAMP:20260423T154805
CREATED:20231230T043604Z
LAST-MODIFIED:20231230T043633Z
UID:9859-1704891600-1704898800@montreaux55.com
SUMMARY:January 2024 Board Meeting 1pm
DESCRIPTION:January 10 at the Mount Vernon Police Department \n1 PM
URL:https://montreaux55.com/event/january-2024-board-meeting-1pm/
END:VEVENT
BEGIN:VEVENT
DTSTART;VALUE=DATE:20231218
DTEND;VALUE=DATE:20231219
DTSTAMP:20260423T154805
CREATED:20230207T195012Z
LAST-MODIFIED:20230207T200901Z
UID:8555-1702857600-1702943999@montreaux55.com
SUMMARY:Annual Food Drive ends
DESCRIPTION:
URL:https://montreaux55.com/event/annual-food-drive-ends/
END:VEVENT
BEGIN:VEVENT
DTSTART;VALUE=DATE:20231206
DTEND;VALUE=DATE:20231207
DTSTAMP:20260423T154805
CREATED:20230207T194923Z
LAST-MODIFIED:20230923T204616Z
UID:8553-1701820800-1701907199@montreaux55.com
SUMMARY:Holiday Dinner – TBD
DESCRIPTION:Actual Time and location TBD
URL:https://montreaux55.com/event/holiday-dinner-tbd/
END:VEVENT
END:VCALENDAR