BEGIN:VCALENDAR
VERSION:2.0
PRODID:-// - ECPv6.15.20//NONSGML v1.0//EN
CALSCALE:GREGORIAN
METHOD:PUBLISH
X-ORIGINAL-URL:https://montreaux55.com
X-WR-CALDESC:Events for 
REFRESH-INTERVAL;VALUE=DURATION:PT1H
X-Robots-Tag:noindex
X-PUBLISHED-TTL:PT1H
BEGIN:VTIMEZONE
TZID:America/Los_Angeles
BEGIN:DAYLIGHT
TZOFFSETFROM:-0800
TZOFFSETTO:-0700
TZNAME:PDT
DTSTART:20200308T100000
END:DAYLIGHT
BEGIN:STANDARD
TZOFFSETFROM:-0700
TZOFFSETTO:-0800
TZNAME:PST
DTSTART:20201101T090000
END:STANDARD
BEGIN:DAYLIGHT
TZOFFSETFROM:-0800
TZOFFSETTO:-0700
TZNAME:PDT
DTSTART:20210314T100000
END:DAYLIGHT
BEGIN:STANDARD
TZOFFSETFROM:-0700
TZOFFSETTO:-0800
TZNAME:PST
DTSTART:20211107T090000
END:STANDARD
BEGIN:DAYLIGHT
TZOFFSETFROM:-0800
TZOFFSETTO:-0700
TZNAME:PDT
DTSTART:20220313T100000
END:DAYLIGHT
BEGIN:STANDARD
TZOFFSETFROM:-0700
TZOFFSETTO:-0800
TZNAME:PST
DTSTART:20221106T090000
END:STANDARD
BEGIN:DAYLIGHT
TZOFFSETFROM:-0800
TZOFFSETTO:-0700
TZNAME:PDT
DTSTART:20230312T100000
END:DAYLIGHT
BEGIN:STANDARD
TZOFFSETFROM:-0700
TZOFFSETTO:-0800
TZNAME:PST
DTSTART:20231105T090000
END:STANDARD
BEGIN:DAYLIGHT
TZOFFSETFROM:-0800
TZOFFSETTO:-0700
TZNAME:PDT
DTSTART:20240310T100000
END:DAYLIGHT
BEGIN:STANDARD
TZOFFSETFROM:-0700
TZOFFSETTO:-0800
TZNAME:PST
DTSTART:20241103T090000
END:STANDARD
END:VTIMEZONE
BEGIN:VEVENT
DTSTART;TZID=America/Los_Angeles:20230315T130000
DTEND;TZID=America/Los_Angeles:20230315T130000
DTSTAMP:20260425T060853
CREATED:20230103T012402Z
LAST-MODIFIED:20230103T012402Z
UID:8381-1678885200-1678885200@montreaux55.com
SUMMARY:HOA Board Meeting
DESCRIPTION:The Board Meeting will be held via Zoom unless the Board decides to have in-person.
URL:https://montreaux55.com/event/hoa-board-meeting-2/
END:VEVENT
BEGIN:VEVENT
DTSTART;VALUE=DATE:20230308
DTEND;VALUE=DATE:20230309
DTSTAMP:20260425T060853
CREATED:20230207T193546Z
LAST-MODIFIED:20230209T195553Z
UID:8525-1678233600-1678319999@montreaux55.com
SUMMARY:Ladies Tea Burlington
DESCRIPTION:Ladies Tea 2023 Click here
URL:https://montreaux55.com/event/ladies-tea-burlington/
END:VEVENT
BEGIN:VEVENT
DTSTART;TZID=America/Los_Angeles:20230126T130000
DTEND;TZID=America/Los_Angeles:20230126T130000
DTSTAMP:20260425T060853
CREATED:20221230T190100Z
LAST-MODIFIED:20221230T190100Z
UID:8371-1674738000-1674738000@montreaux55.com
SUMMARY:Let's Do Lunch at Jimmy's Pizza & Pasta
DESCRIPTION:LET’S DO LUNCH!\n\n\n\n\n\n\n\n\n\n\n\n\n\n\n\n\n\n\n\n\n\n\nWhen: Thursday\, January 26\, 2023 \nTime: 1:00pm \nWhere: Jimmy’s Pizza & Pasta in Stanwood \n9819 State Route 532 \nStanwood \nRSVP to (and ride share if desired): \nMarsha Murray – 408/476-1090 or marsham518@gmail.com
URL:https://montreaux55.com/event/lets-do-lunch-at-jimmys-pizza-pasta/
END:VEVENT
BEGIN:VEVENT
DTSTART;TZID=America/Los_Angeles:20230118T130000
DTEND;TZID=America/Los_Angeles:20230118T130000
DTSTAMP:20260425T060853
CREATED:20230103T012211Z
LAST-MODIFIED:20230110T200022Z
UID:8379-1674046800-1674046800@montreaux55.com
SUMMARY:HOA Board Meeting
DESCRIPTION:Montreaux Board Meeting via Zoom. \nWednesday\, January 18\, 2023 \nat 1:00 pm – Held virtually Via Zoom
URL:https://montreaux55.com/event/hoa-board-meeting/
END:VEVENT
BEGIN:VEVENT
DTSTART;TZID=America/Los_Angeles:20221214T170000
DTEND;TZID=America/Los_Angeles:20221214T190000
DTSTAMP:20260425T060853
CREATED:20220217T205621Z
LAST-MODIFIED:20221201T073201Z
UID:7117-1671037200-1671044400@montreaux55.com
SUMMARY:Holiday Party
DESCRIPTION:Holiday Party \nBelow is an invite to our Montreaux Holiday Party on Wednesday December 14th\, 2022 at Max Dale’s Chop House.
URL:https://montreaux55.com/event/holiday-dinner/
END:VEVENT
BEGIN:VEVENT
DTSTART;VALUE=DATE:20221205
DTEND;VALUE=DATE:20221220
DTSTAMP:20260425T060853
CREATED:20220217T205740Z
LAST-MODIFIED:20221201T072617Z
UID:7119-1670198400-1671494399@montreaux55.com
SUMMARY:Holiday Food Drive
DESCRIPTION:Holiday Food Drive * \nPlease drop off food items at Cathy Leach OR Chuck and Patty Lutz house. \n 
URL:https://montreaux55.com/event/holiday-food-drive/
END:VEVENT
BEGIN:VEVENT
DTSTART;TZID=America/Los_Angeles:20221121T140000
DTEND;TZID=America/Los_Angeles:20221121T160000
DTSTAMP:20260425T060853
CREATED:20220217T205522Z
LAST-MODIFIED:20220217T205522Z
UID:7115-1669039200-1669046400@montreaux55.com
SUMMARY:Holiday Lights
DESCRIPTION:Holiday Lights in the Main Park * \nTime will be provided by the Social Committee. I have put 2-4pm just as a placeholder as and Event can’t be added without a time of event. \n* Tentative due to restrictions
URL:https://montreaux55.com/event/holiday-lights-2/
END:VEVENT
BEGIN:VEVENT
DTSTART;TZID=America/Los_Angeles:20221117T130000
DTEND;TZID=America/Los_Angeles:20221117T130000
DTSTAMP:20260425T060853
CREATED:20220705T204414Z
LAST-MODIFIED:20220705T204435Z
UID:7718-1668690000-1668690000@montreaux55.com
SUMMARY:Annual Homeowners Meeting
DESCRIPTION:Annual Homeowners Meeting \nThursday\, 11/17/2022 1:00 p.m.
URL:https://montreaux55.com/event/annual-homeowners-meeting/
END:VEVENT
BEGIN:VEVENT
DTSTART;TZID=America/Los_Angeles:20220922T130000
DTEND;TZID=America/Los_Angeles:20220922T150000
DTSTAMP:20260425T060853
CREATED:20220218T165003Z
LAST-MODIFIED:20220218T165239Z
UID:7129-1663851600-1663858800@montreaux55.com
SUMMARY:Board Meeting Sept 22nd
DESCRIPTION:Board Meeting September 22nd 1pm via Zoom
URL:https://montreaux55.com/event/board-meeting-sept-22nd/
END:VEVENT
BEGIN:VEVENT
DTSTART;TZID=America/Los_Angeles:20220910T160000
DTEND;TZID=America/Los_Angeles:20220910T160000
DTSTAMP:20260425T060853
CREATED:20220811T215332Z
LAST-MODIFIED:20220811T215332Z
UID:7798-1662825600-1662825600@montreaux55.com
SUMMARY:Montreaux 6th Annual Chili Cook-Off
DESCRIPTION:
URL:https://montreaux55.com/event/montreaux-6th-annual-chili-cook-off/
END:VEVENT
BEGIN:VEVENT
DTSTART;TZID=America/Los_Angeles:20220826T140000
DTEND;TZID=America/Los_Angeles:20220826T160000
DTSTAMP:20260425T060853
CREATED:20220807T231026Z
LAST-MODIFIED:20220807T231035Z
UID:7794-1661522400-1661529600@montreaux55.com
SUMMARY:Montreaux Farmer’s Market
DESCRIPTION:The next event on the Montreaux social calendar is our Farmer’s Market!  This for Montreaux residents only and is totally dependent on the participation of our talented and generous community.\nWhat do you need to do? \n\n\nBring in items to share for the Market and find a spot for them\n\n\nPick up 10 tickets at the Montreaux Market and put your name on them \n\n\n          [Hint:  Some folks bring address labels to slap on their tickets!]\n\n\nPlace as many tickets into the “sales cups” as you’d like chances to win\n\n\nListen for when names are drawn\n\n\n\n\nWhat about books\, puzzles and DVD’s?  We share them “free” on a separate table until they are all gone (and then donate the rest to the Mount Vernon library and Senior Center.)\n\n\nWhen: Friday\, August 26\, 2022     \n2:00 – 4:00 pm\nWhere:  Montreaux Gazebo and Annex 
URL:https://montreaux55.com/event/montreaux-farmers-market/
END:VEVENT
BEGIN:VEVENT
DTSTART;TZID=America/Los_Angeles:20220825T130000
DTEND;TZID=America/Los_Angeles:20220825T150000
DTSTAMP:20260425T060853
CREATED:20220218T164930Z
LAST-MODIFIED:20220705T204126Z
UID:7127-1661432400-1661439600@montreaux55.com
SUMMARY:Board Meeting August 25
DESCRIPTION:Board Meeting August 25th 1pm via Zoom
URL:https://montreaux55.com/event/board-meeting-july-25/
END:VEVENT
BEGIN:VEVENT
DTSTART;TZID=America/Los_Angeles:20220820T140000
DTEND;TZID=America/Los_Angeles:20220820T190000
DTSTAMP:20260425T060853
CREATED:20220316T021340Z
LAST-MODIFIED:20220316T021340Z
UID:7344-1661004000-1661022000@montreaux55.com
SUMMARY:Private Reservation of Gazebo and Annex
DESCRIPTION:The Gazebo and Annex are reserved August 20th from 2pm to 7pm. \nThis is NOT an HOA sponsored event.
URL:https://montreaux55.com/event/private-reservation-of-gazebo-and-annex/
END:VEVENT
BEGIN:VEVENT
DTSTART;TZID=America/Los_Angeles:20220806T140000
DTEND;TZID=America/Los_Angeles:20220806T140000
DTSTAMP:20260425T060853
CREATED:20220714T171921Z
LAST-MODIFIED:20220714T171921Z
UID:7730-1659794400-1659794400@montreaux55.com
SUMMARY:Pie in the Park
DESCRIPTION:
URL:https://montreaux55.com/event/pie-in-the-park/
END:VEVENT
BEGIN:VEVENT
DTSTART;TZID=America/Los_Angeles:20220729T160000
DTEND;TZID=America/Los_Angeles:20220729T160000
DTSTAMP:20260425T060853
CREATED:20220726T212604Z
LAST-MODIFIED:20220726T212625Z
UID:7755-1659110400-1659110400@montreaux55.com
SUMMARY:Friday Nights in the Park Hawaiian Style
DESCRIPTION:
URL:https://montreaux55.com/event/7755/
END:VEVENT
BEGIN:VEVENT
DTSTART;TZID=America/Los_Angeles:20220722T160000
DTEND;TZID=America/Los_Angeles:20220722T160000
DTSTAMP:20260425T060853
CREATED:20220702T213222Z
LAST-MODIFIED:20220702T213333Z
UID:7704-1658505600-1658505600@montreaux55.com
SUMMARY:Wine in the Park (at the Gazebo 4pm on July 22nd)
DESCRIPTION:
URL:https://montreaux55.com/event/wine-in-the-park-at-the-gazebo-4pm-on-july-22nd/
END:VEVENT
BEGIN:VEVENT
DTSTART;TZID=America/Los_Angeles:20220701T160000
DTEND;TZID=America/Los_Angeles:20220701T160000
DTSTAMP:20260425T060853
CREATED:20220608T184642Z
LAST-MODIFIED:20220701T171742Z
UID:7619-1656691200-1656691200@montreaux55.com
SUMMARY:Pet Parade
DESCRIPTION:Montreaux Pet Parade July 1st 4pm at Gazebo
URL:https://montreaux55.com/event/pet-parade/
END:VEVENT
BEGIN:VEVENT
DTSTART;TZID=America/Los_Angeles:20220623T130000
DTEND;TZID=America/Los_Angeles:20220623T150000
DTSTAMP:20260425T060853
CREATED:20220218T164857Z
LAST-MODIFIED:20220218T165407Z
UID:7125-1655989200-1655996400@montreaux55.com
SUMMARY:Board Meeting June 23rd
DESCRIPTION:Board Meeting June 23rd 1pm via Zoom
URL:https://montreaux55.com/event/board-meeting-june-23rd/
END:VEVENT
BEGIN:VEVENT
DTSTART;TZID=America/Los_Angeles:20220617T160000
DTEND;TZID=America/Los_Angeles:20220617T180000
DTSTAMP:20260425T060853
CREATED:20220611T180254Z
LAST-MODIFIED:20220611T180343Z
UID:7630-1655481600-1655488800@montreaux55.com
SUMMARY:FRIDAY NIGHTS AT THE PARK  HAWAIIAN STYLE
DESCRIPTION:FRIDAY NIGHTS AT THE PARK\nHAWAIIAN STYLE\nPlease join us as we try to kick off \nsummer in the park.\nFriday June 17th @ 4:00pm\nWear your Muumuus and \nHawaiian shirts.\nBring an appetizer to share\nand your own beverage\nIf you have any questions\,\nPlease contact Mel Dygert @\n253-234-2353 or\nleedygert10@gmail.com
URL:https://montreaux55.com/event/friday-nights-at-the-park-hawaiian-style/
END:VEVENT
BEGIN:VEVENT
DTSTART;TZID=America/Los_Angeles:20220603T160000
DTEND;TZID=America/Los_Angeles:20220603T180000
DTSTAMP:20260425T060853
CREATED:20220217T204636Z
LAST-MODIFIED:20220509T195020Z
UID:7105-1654272000-1654279200@montreaux55.com
SUMMARY:Kickoff Friday Night at the Gazebo
DESCRIPTION:FRIDAY NIGHTS IN THE PARK \nSummer is almost here! We will start off our “Friday Nights in the Park” Friday June 3rd.\nCome meet your neighbors and see what has been happening since we last saw each other.\nThe Social Committee has been hard at work planning fun events for this summer and fall.\nWe will kick off with appetizers to share at 4:00pm\nBring your own beverages.\nIf you have any questions\, please contact\nMel Dygert@253-234-2353\n(leedygert10@gmail.com
URL:https://montreaux55.com/event/kickoff-friday-night-at-the-gazebo/
END:VEVENT
BEGIN:VEVENT
DTSTART;TZID=America/Los_Angeles:20220521T130000
DTEND;TZID=America/Los_Angeles:20220521T160000
DTSTAMP:20260425T060853
CREATED:20220217T204423Z
LAST-MODIFIED:20220502T175059Z
UID:7103-1653138000-1653148800@montreaux55.com
SUMMARY:Garden Tour
DESCRIPTION:2022 Montreaux Garden Tour (Residents only) \nThe Montreaux Social Committee is planning a Garden Tour of our neighbor’s gardens this spring. \nDATE:  SATURDAY MAY 21\, 2022 \nTIME:  1:00 PM to 4:00 PM
URL:https://montreaux55.com/event/garden-tour/
END:VEVENT
BEGIN:VEVENT
DTSTART;TZID=America/Los_Angeles:20220428T130000
DTEND;TZID=America/Los_Angeles:20220428T150000
DTSTAMP:20260425T060853
CREATED:20220218T164820Z
LAST-MODIFIED:20220218T165437Z
UID:7123-1651150800-1651158000@montreaux55.com
SUMMARY:Board Meeting April 28th
DESCRIPTION:Board Meeting April 28th 1pm via Zoom
URL:https://montreaux55.com/event/board-meeting-april-28th/
END:VEVENT
BEGIN:VEVENT
DTSTART;TZID=America/Los_Angeles:20220413T100000
DTEND;TZID=America/Los_Angeles:20220413T130000
DTSTAMP:20260425T060853
CREATED:20220329T191853Z
LAST-MODIFIED:20220329T191859Z
UID:7385-1649844000-1649854800@montreaux55.com
SUMMARY:Volunteer Day
DESCRIPTION:It’s Volunteer Sign-up Day for our Montreaux Community \nJoin us for Coffee and Doughnuts  \nApril 13th  \n10:00 at the gazebo \nMontreaux Grounds & Maintenance \n*Sprinkler club \n*Sign up for volunteer activities \n*Sign up for a free gallon of fence paint \n*Sign up to help paint the common fence (paint provided) \nSocial Committee \n*Help with neighborhood activities \n*Pick up some free books and puzzles \n*Find out what activities will be planned this year \nCome meet your neighbors and learn what you can do!
URL:https://montreaux55.com/event/volunteer-day/
END:VEVENT
BEGIN:VEVENT
DTSTART;TZID=America/Los_Angeles:20220403T160000
DTEND;TZID=America/Los_Angeles:20220403T173000
DTSTAMP:20260425T060853
CREATED:20220217T203821Z
LAST-MODIFIED:20220403T230609Z
UID:7098-1649001600-1649007000@montreaux55.com
SUMMARY:Kiwanis Salmon Dinner *
DESCRIPTION:Kiwanis Salmon Dinner * \n* Tentative due to restrictions
URL:https://montreaux55.com/event/kiwanis-salmon-dinner/
END:VEVENT
BEGIN:VEVENT
DTSTART;TZID=America/Los_Angeles:20220322T120000
DTEND;TZID=America/Los_Angeles:20220322T140000
DTSTAMP:20260425T060853
CREATED:20220216T233934Z
LAST-MODIFIED:20220216T234048Z
UID:7092-1647950400-1647957600@montreaux55.com
SUMMARY:Montreaux Ladie's Tea
DESCRIPTION: 
URL:https://montreaux55.com/event/montreaux-ladies-tea-2/
END:VEVENT
BEGIN:VEVENT
DTSTART;TZID=America/Los_Angeles:20220224T130000
DTEND;TZID=America/Los_Angeles:20220224T150000
DTSTAMP:20260425T060853
CREATED:20220218T164720Z
LAST-MODIFIED:20220218T165500Z
UID:7121-1645707600-1645714800@montreaux55.com
SUMMARY:Board Meeting Feb. 24th
DESCRIPTION:Board Meeting Feb. 24th 1pm via Zoom
URL:https://montreaux55.com/event/board-meeting-feb-24th/
END:VEVENT
BEGIN:VEVENT
DTSTART;TZID=America/Los_Angeles:20210905T150000
DTEND;TZID=America/Los_Angeles:20210905T190000
DTSTAMP:20260425T060853
CREATED:20210826T231527Z
LAST-MODIFIED:20220315T214640Z
UID:6389-1630854000-1630868400@montreaux55.com
SUMMARY:Gazebo and Annex Reserved
DESCRIPTION:Private Gathering at the Gazebo and Annex
URL:https://montreaux55.com/event/gazbeo-and-annex-reserved/
END:VEVENT
END:VCALENDAR